BEGIN:VCALENDAR
VERSION:2.0
PRODID:-//Oregon Bow Hunters - ECPv6.15.12.2//NONSGML v1.0//EN
CALSCALE:GREGORIAN
METHOD:PUBLISH
X-WR-CALNAME:Oregon Bow Hunters
X-ORIGINAL-URL:https://oregonbowhunters.org
X-WR-CALDESC:Events for Oregon Bow Hunters
REFRESH-INTERVAL;VALUE=DURATION:PT1H
X-Robots-Tag:noindex
X-PUBLISHED-TTL:PT1H
BEGIN:VTIMEZONE
TZID:America/Los_Angeles
BEGIN:DAYLIGHT
TZOFFSETFROM:-0800
TZOFFSETTO:-0700
TZNAME:PDT
DTSTART:20240310T100000
END:DAYLIGHT
BEGIN:STANDARD
TZOFFSETFROM:-0700
TZOFFSETTO:-0800
TZNAME:PST
DTSTART:20241103T090000
END:STANDARD
BEGIN:DAYLIGHT
TZOFFSETFROM:-0800
TZOFFSETTO:-0700
TZNAME:PDT
DTSTART:20250309T100000
END:DAYLIGHT
BEGIN:STANDARD
TZOFFSETFROM:-0700
TZOFFSETTO:-0800
TZNAME:PST
DTSTART:20251102T090000
END:STANDARD
BEGIN:DAYLIGHT
TZOFFSETFROM:-0800
TZOFFSETTO:-0700
TZNAME:PDT
DTSTART:20260308T100000
END:DAYLIGHT
BEGIN:STANDARD
TZOFFSETFROM:-0700
TZOFFSETTO:-0800
TZNAME:PST
DTSTART:20261101T090000
END:STANDARD
END:VTIMEZONE
BEGIN:VTIMEZONE
TZID:UTC
BEGIN:STANDARD
TZOFFSETFROM:+0000
TZOFFSETTO:+0000
TZNAME:UTC
DTSTART:20240101T000000
END:STANDARD
END:VTIMEZONE
BEGIN:VEVENT
DTSTART;TZID=America/Los_Angeles:20251108T090000
DTEND;TZID=America/Los_Angeles:20251108T143000
DTSTAMP:20260421T113019
CREATED:20251023T170713Z
LAST-MODIFIED:20251023T180946Z
UID:2548-1762592400-1762612200@oregonbowhunters.org
SUMMARY:Annual Turkey Shoot 2025
DESCRIPTION:Time & Location\nNov 08\, 2025\, 9:00 AM – 2:30 PM \nCascadian Bowmen\, 91714 Poodle Creek Rd\, Noti\, OR 97461\, USA \n  \nAbout the Event\nRegistration: 9 AM – 9:45 AM > 10 AM START \nShooting starts at 10 am sharp starting with a Vegas round for qualifications and then flighted shoot offs immediately after. \nNo bows classes\, flighted based on qualifying score . \nNumber of flights determined by number of participants. \nAdults: $20 \nYouth (11-17): $15 \nCubs (10 & Under): Free \nAwards are gift cards instead of actual turkeys\, hams\, etc. \nQuestions? president.cascadian@gmail.com
URL:https://oregonbowhunters.org/event/annual-turkey-shoot-2025/
LOCATION:Cascadian Bowmen\, 91714 Poodle Creek Rd\, Noti\, OR\, 97461\, United States
CATEGORIES:Bowhunting
ATTACH;FMTTYPE=image/png:https://oregonbowhunters.org/wp-content/uploads/2025/10/a015e3_395586e991414fa9a59c5fa3f1d0b716mv2.png
END:VEVENT
BEGIN:VEVENT
DTSTART;VALUE=DATE:20250809
DTEND;VALUE=DATE:20250811
DTSTAMP:20260421T113019
CREATED:20250802T022851Z
LAST-MODIFIED:20250812T052403Z
UID:1401-1754697600-1754870399@oregonbowhunters.org
SUMMARY:Bowhunter Prep Weekend
DESCRIPTION:Free for anyone to participate! (Donation appreciated) \n8/9 Saturday 7:30am – 5pm \n8/10 Sunday 7:30am – 3pm \nWe are hosting our Bowhunter Prep weekend again on August 9th & 10th. Come out and make sure your equipment is dialed and ready to go for hunting season. Local experts will be there to help with any questions or problems you may have and to help get those last tweaks done to your equipment before the season starts. There will be some tuning and shooting seminars going on both days\, 14 x 3D targets\, novelty shoots\, raffles\, free dry camping\, concessions and more! There is no charge to come out to the event\, donations are appreciated for use of the facilities and targets. Bring the family out and enjoy a great weekend shooting your bow.
URL:https://oregonbowhunters.org/event/bowhunter-prep-weekend/
LOCATION:Cascadian Bowmen\, 91714 Poodle Creek Rd\, Noti\, OR\, 97461\, United States
CATEGORIES:Bowhunting
ATTACH;FMTTYPE=image/jpeg:https://oregonbowhunters.org/wp-content/uploads/2025/06/bowhunting-ethics.jpg
END:VEVENT
BEGIN:VEVENT
DTSTART;VALUE=DATE:20250801
DTEND;VALUE=DATE:20250901
DTSTAMP:20260421T113019
CREATED:20250812T053829Z
LAST-MODIFIED:20250812T200638Z
UID:2430-1754006400-1756684799@oregonbowhunters.org
SUMMARY:2025 Tipple Crown Winners
DESCRIPTION:Congratulations to the 2025 Triple Crown Award winners! These prestigious awards go to the competitor with the highest combined percentage based on a perfect score of each tournament in each class for all three tournaments (Indoor\, Field\, and 3D) held this year. An award ceremony will be held when the 2026 State Indoor Championships concludes on Sunday February 1st\, 2026. \nCheck out the results here
URL:https://oregonbowhunters.org/event/2025-tipple-crown-winners/
LOCATION:OR
ATTACH;FMTTYPE=image/jpeg:https://oregonbowhunters.org/wp-content/uploads/2025/07/hunter-scaled.jpg
END:VEVENT
END:VCALENDAR