BEGIN:VCALENDAR
VERSION:2.0
PRODID:-//Oregon Bow Hunters - ECPv6.15.12.2//NONSGML v1.0//EN
CALSCALE:GREGORIAN
METHOD:PUBLISH
X-ORIGINAL-URL:https://oregonbowhunters.org
X-WR-CALDESC:Events for Oregon Bow Hunters
REFRESH-INTERVAL;VALUE=DURATION:PT1H
X-Robots-Tag:noindex
X-PUBLISHED-TTL:PT1H
BEGIN:VTIMEZONE
TZID:America/Los_Angeles
BEGIN:DAYLIGHT
TZOFFSETFROM:-0800
TZOFFSETTO:-0700
TZNAME:PDT
DTSTART:20250309T100000
END:DAYLIGHT
BEGIN:STANDARD
TZOFFSETFROM:-0700
TZOFFSETTO:-0800
TZNAME:PST
DTSTART:20251102T090000
END:STANDARD
BEGIN:DAYLIGHT
TZOFFSETFROM:-0800
TZOFFSETTO:-0700
TZNAME:PDT
DTSTART:20260308T100000
END:DAYLIGHT
BEGIN:STANDARD
TZOFFSETFROM:-0700
TZOFFSETTO:-0800
TZNAME:PST
DTSTART:20261101T090000
END:STANDARD
BEGIN:DAYLIGHT
TZOFFSETFROM:-0800
TZOFFSETTO:-0700
TZNAME:PDT
DTSTART:20270314T100000
END:DAYLIGHT
BEGIN:STANDARD
TZOFFSETFROM:-0700
TZOFFSETTO:-0800
TZNAME:PST
DTSTART:20271107T090000
END:STANDARD
END:VTIMEZONE
BEGIN:VEVENT
DTSTART;TZID=America/Los_Angeles:20260207T073000
DTEND;TZID=America/Los_Angeles:20260208T150000
DTSTAMP:20260421T080916
CREATED:20251023T180845Z
LAST-MODIFIED:20251030T021816Z
UID:2561-1770449400-1770562800@oregonbowhunters.org
SUMMARY:Slip 'n Slide 3D Shoot (2/7 & 2/8)
DESCRIPTION:Time & Location\nFeb 07\, 2026\, 7:30 AM – Feb 08\, 2026\, 3:00 PM \nCascadian Bowmen\, 91714 Poodle Creek Rd\, Noti\, OR 97461\, USA \nAbout the Event\nSaturday Registration: 7:30 am – 2:00 pm (Range Closes at 5:00 pm) \nSunday Registration: 7:30 am – 12:30pm (Range Closes at 3:00 pm) \nInvite your friends and family out to our amazing course and try out a unique 3D course! \nHot breakfast and lunch available! \nEntry Fees: \nAdults – $20 for 1 day / $25 for both \nFamily – $40 for 1 day / $45 for both \nYouth (11-17) – $15 for 1 day / $20 for both \nCubs (under 11) are FREE! \n*Show your OBH\, NFAA or Cascaidan membership card for a $2 discount on shoot registration. \nQuestions? Email president.cascadian@gmail.com
URL:https://oregonbowhunters.org/event/slip-n-slide-3d-shoot-2-7-2-8/
LOCATION:Cascadian Bowmen\, 91714 Poodle Creek Rd\, Noti\, OR\, 97461\, United States
CATEGORIES:Bowhunting,Competition
ATTACH;FMTTYPE=image/png:https://oregonbowhunters.org/wp-content/uploads/2025/10/2b5b02_eccf78cb29b7474c94b9d8e1c69e49f5mv2-1.png
END:VEVENT
END:VCALENDAR