BEGIN:VCALENDAR
VERSION:2.0
PRODID:-//Oregon Bow Hunters - ECPv6.15.12.2//NONSGML v1.0//EN
CALSCALE:GREGORIAN
METHOD:PUBLISH
X-ORIGINAL-URL:https://oregonbowhunters.org
X-WR-CALDESC:Events for Oregon Bow Hunters
REFRESH-INTERVAL;VALUE=DURATION:PT1H
X-Robots-Tag:noindex
X-PUBLISHED-TTL:PT1H
BEGIN:VTIMEZONE
TZID:America/Los_Angeles
BEGIN:DAYLIGHT
TZOFFSETFROM:-0800
TZOFFSETTO:-0700
TZNAME:PDT
DTSTART:20250309T100000
END:DAYLIGHT
BEGIN:STANDARD
TZOFFSETFROM:-0700
TZOFFSETTO:-0800
TZNAME:PST
DTSTART:20251102T090000
END:STANDARD
BEGIN:DAYLIGHT
TZOFFSETFROM:-0800
TZOFFSETTO:-0700
TZNAME:PDT
DTSTART:20260308T100000
END:DAYLIGHT
BEGIN:STANDARD
TZOFFSETFROM:-0700
TZOFFSETTO:-0800
TZNAME:PST
DTSTART:20261101T090000
END:STANDARD
BEGIN:DAYLIGHT
TZOFFSETFROM:-0800
TZOFFSETTO:-0700
TZNAME:PDT
DTSTART:20270314T100000
END:DAYLIGHT
BEGIN:STANDARD
TZOFFSETFROM:-0700
TZOFFSETTO:-0800
TZNAME:PST
DTSTART:20271107T090000
END:STANDARD
END:VTIMEZONE
BEGIN:VEVENT
DTSTART;TZID=America/Los_Angeles:20260130T070000
DTEND;TZID=America/Los_Angeles:20260130T120000
DTSTAMP:20260421T082832
CREATED:20260120T005242Z
LAST-MODIFIED:20260127T173345Z
UID:2854-1769756400-1769774400@oregonbowhunters.org
SUMMARY:Oregon High School Archery League Indoor Championships 2026
DESCRIPTION:Venue\nLynn County Fairgrounds\n3700 Knox Butte Rd E.\, Albany\, United States \nDate\nJanuary 30\, 2026 \nSchedule\nWarm-up and Check-In: 7:00 AM\nShooters Meeting: 7:50 AM\nLine Hot: 8:00 AM\nWrap-Up and Awards: Before 12:00 PM \n\nTournament Format\nTarget Face\nNFAA 40cm single or five spot \nRounds \n\n2 warm-up ends – 4 minutes each (5 arrows per end)\n6 scoring ends – 4 minutes each (5 arrows per end)\nSwap targets and take a 10-minute break after the 6th end\n6 scoring ends – 4 minutes each (5 arrows per end)\n\nArrows\nTotal arrows shot: 70\nScoring arrows: 60 \nScoring \n\nX = 5 (recording X’s is required)\n5 = 5\n4\n3\n2\n1\nM = Miss / 0\n\n\nLane Assignments\nAll archers will be given a lane assignment and must shoot from that lane.\nA “T” or “B” after your lane number means Top or Bottom of bale. \nArchers should find their lane assignment at check-in and set up to practice in the assigned lane only. \n\nScore Cards\n\nPre-filled prior to Line Hot at 8:00 AM\nTwo sets of score sheets per bale\n3–4 archers per bale\nTwo record scores\, one calls arrows\n\n\nLine Commands (Official Shooting)\nBefore any whistle blasts\nAll archers behind the shooting line in the archers area \nAfter 2 blasts and “Archers to the Line”\nCome to the shooting line. Do not nock arrows. Straddle the shooting line and wait. \nAfter 1 blast and “Line Hot”\nNock an arrow and shoot 5 arrows\n4-minute clock \nAfter finishing\nStep back behind the shooting line so judges know you are done\nIf an archer in front or behind you is at full draw\, stay at the line until they shoot or let down \nAfter 3 blasts and “Score Arrows”\nAll archers proceed to the target line (do not cross the target safety line)\nOnly three scoring teammates may cross the safety line\nWatch your arrows being called and confirm scores\nAfter all arrows are scored\, arrows may be pulled\nReturn behind the shooting line and wait for the next command \nRepeat sequence. \n\nArrow and Bow Mishaps\n\nIf too few arrows are shot\, missing arrows are scored as M\nIf too many arrows are shot\, the highest score becomes a miss and one point is removed from the next highest arrow\nIf an arrow is shot after time expires\, the highest score becomes a miss and one point is removed from the next highest arrow\n\nDropped Arrows\nIf not past the shot arrow line\, they may be picked up and shot. Ask for help. Do not reach out during shooting. \n\nNo arrow twirling\nNo sky draws\nNocking before Line Hot results in a one-point deduction after one warning\n\nWe only have four hours to compete and hand out awards. Please be efficient\, quick\, and quiet between ends so we finish on time. \nBe polite to others. Watch your gear and quiver.\nNo coaching while archers are at the line.\nAll spectators must remain at or near the bleachers\, not in the archers area. \n\nOHSAL Indoor Varsity Competition Format – Rev A 12/19/2025\nIndividual Scoring \n\nTop three scores in each division place 1\, 2\, 3\nX-count is the first tiebreaker\nShoot-off if still tied (NFAA Blue face)\nSingle arrow\, closest to center wins\n\n\nTeam Scoring\n\n1 point – Archer shoots at or above varsity average\n0 points – Archer shoots below varsity average\n\nEach team totals points from six archers for a maximum of 6 team points. \n\nTeam Point Tiebreakers\nIf tied\, one point is dropped from the archer closest to varsity level.\nExample: Open shooter at 281 vs Trad shooter at 200 removes the Open shooter’s point. \nOption 1 – Full Team Shoot-Off \n\nAll 6 archers participate\nVegas face used\nShoot 3 arrows for score in a single line\nScoring: 10\,9\,8\,7\,6\,5\,4\,3\,2\,1\,0\nOpen: X = 10\nBowhunter / Olympic: X/10 = 10\nTraditional: X/10/9 = 10\n\nOption 2 – Limited Time \n\nEach team selects one archer\nShoot 3-arrow Vegas face round\nHighest score wins\n\nOption 3 – Very Limited Time \n\nOne archer per team\nSingle arrow on Vegas face\nClosest to center wins\n\n\nVarsity Averages (Reference)\n\nBH: 265\nOpen: 280\nTrad: 185\nOlympic: 205\n\n\nQuestions about the format:\nOHSAL Tournament Director – Chris Ferguson\nChris@fergusonworks.com \nVegas Face used for tie breakers.
URL:https://oregonbowhunters.org/event/oshal-state-indoor-championships-2026/
LOCATION:Linn Co Expo Center\, 3700 Knox Butte Rd E.\, Albany\, 97322\, United States
CATEGORIES:Competition
ATTACH;FMTTYPE=image/png:https://oregonbowhunters.org/wp-content/uploads/2026/01/Screenshot-2026-01-12-at-10.24.42-AM.png
END:VEVENT
END:VCALENDAR