BEGIN:VCALENDAR
VERSION:2.0
PRODID:-//Oregon Bow Hunters - ECPv6.15.12.2//NONSGML v1.0//EN
CALSCALE:GREGORIAN
METHOD:PUBLISH
X-WR-CALNAME:Oregon Bow Hunters
X-ORIGINAL-URL:https://oregonbowhunters.org
X-WR-CALDESC:Events for Oregon Bow Hunters
REFRESH-INTERVAL;VALUE=DURATION:PT1H
X-Robots-Tag:noindex
X-PUBLISHED-TTL:PT1H
BEGIN:VTIMEZONE
TZID:America/Los_Angeles
BEGIN:DAYLIGHT
TZOFFSETFROM:-0800
TZOFFSETTO:-0700
TZNAME:PDT
DTSTART:20250309T100000
END:DAYLIGHT
BEGIN:STANDARD
TZOFFSETFROM:-0700
TZOFFSETTO:-0800
TZNAME:PST
DTSTART:20251102T090000
END:STANDARD
BEGIN:DAYLIGHT
TZOFFSETFROM:-0800
TZOFFSETTO:-0700
TZNAME:PDT
DTSTART:20260308T100000
END:DAYLIGHT
BEGIN:STANDARD
TZOFFSETFROM:-0700
TZOFFSETTO:-0800
TZNAME:PST
DTSTART:20261101T090000
END:STANDARD
BEGIN:DAYLIGHT
TZOFFSETFROM:-0800
TZOFFSETTO:-0700
TZNAME:PDT
DTSTART:20270314T100000
END:DAYLIGHT
BEGIN:STANDARD
TZOFFSETFROM:-0700
TZOFFSETTO:-0800
TZNAME:PST
DTSTART:20271107T090000
END:STANDARD
END:VTIMEZONE
BEGIN:VEVENT
DTSTART;VALUE=DATE:20260326
DTEND;VALUE=DATE:20260330
DTSTAMP:20260421T050425
CREATED:20250812T060545Z
LAST-MODIFIED:20250812T060659Z
UID:2433-1774483200-1774828799@oregonbowhunters.org
SUMMARY:The Vegas Shoot 2026
DESCRIPTION:If you’re looking for an unforgettable archery competitive experience\, the Vegas Shoot is second to none. It’s the largest and most prestigious indoor archery tournament in the world. With over 5\,000 archers from across the globe\, this event caters to all levels\, from beginners to Olympic champions. Whether you’re shooting senior\, youth\, compound\, or recurve\, The Vegas Shoot is open to everyone\, offering a truly inclusive environment for all types of archers. The tournament spans three days and features the iconic 3-spot 20-yard Vegas Round that has made this event a staple in the archery community. Don’t miss the chance to be part of this legendary competition in 2026!
URL:https://oregonbowhunters.org/event/the-vegas-shoot-2026/
LOCATION:OR
CATEGORIES:Competition
ATTACH;FMTTYPE=image/png:https://oregonbowhunters.org/wp-content/uploads/2025/08/vegas-shoot-2026.png
END:VEVENT
END:VCALENDAR