BEGIN:VCALENDAR
VERSION:2.0
PRODID:-//Oregon Bow Hunters - ECPv6.15.12.2//NONSGML v1.0//EN
CALSCALE:GREGORIAN
METHOD:PUBLISH
X-WR-CALNAME:Oregon Bow Hunters
X-ORIGINAL-URL:https://oregonbowhunters.org
X-WR-CALDESC:Events for Oregon Bow Hunters
REFRESH-INTERVAL;VALUE=DURATION:PT1H
X-Robots-Tag:noindex
X-PUBLISHED-TTL:PT1H
BEGIN:VTIMEZONE
TZID:America/Los_Angeles
BEGIN:DAYLIGHT
TZOFFSETFROM:-0800
TZOFFSETTO:-0700
TZNAME:PDT
DTSTART:20240310T100000
END:DAYLIGHT
BEGIN:STANDARD
TZOFFSETFROM:-0700
TZOFFSETTO:-0800
TZNAME:PST
DTSTART:20241103T090000
END:STANDARD
BEGIN:DAYLIGHT
TZOFFSETFROM:-0800
TZOFFSETTO:-0700
TZNAME:PDT
DTSTART:20250309T100000
END:DAYLIGHT
BEGIN:STANDARD
TZOFFSETFROM:-0700
TZOFFSETTO:-0800
TZNAME:PST
DTSTART:20251102T090000
END:STANDARD
BEGIN:DAYLIGHT
TZOFFSETFROM:-0800
TZOFFSETTO:-0700
TZNAME:PDT
DTSTART:20260308T100000
END:DAYLIGHT
BEGIN:STANDARD
TZOFFSETFROM:-0700
TZOFFSETTO:-0800
TZNAME:PST
DTSTART:20261101T090000
END:STANDARD
END:VTIMEZONE
BEGIN:VEVENT
DTSTART;TZID=America/Los_Angeles:20251108T090000
DTEND;TZID=America/Los_Angeles:20251108T143000
DTSTAMP:20260421T121220
CREATED:20251023T170713Z
LAST-MODIFIED:20251023T180946Z
UID:2548-1762592400-1762612200@oregonbowhunters.org
SUMMARY:Annual Turkey Shoot 2025
DESCRIPTION:Time & Location\nNov 08\, 2025\, 9:00 AM – 2:30 PM \nCascadian Bowmen\, 91714 Poodle Creek Rd\, Noti\, OR 97461\, USA \n  \nAbout the Event\nRegistration: 9 AM – 9:45 AM > 10 AM START \nShooting starts at 10 am sharp starting with a Vegas round for qualifications and then flighted shoot offs immediately after. \nNo bows classes\, flighted based on qualifying score . \nNumber of flights determined by number of participants. \nAdults: $20 \nYouth (11-17): $15 \nCubs (10 & Under): Free \nAwards are gift cards instead of actual turkeys\, hams\, etc. \nQuestions? president.cascadian@gmail.com
URL:https://oregonbowhunters.org/event/annual-turkey-shoot-2025/
LOCATION:Cascadian Bowmen\, 91714 Poodle Creek Rd\, Noti\, OR\, 97461\, United States
CATEGORIES:Bowhunting
ATTACH;FMTTYPE=image/png:https://oregonbowhunters.org/wp-content/uploads/2025/10/a015e3_395586e991414fa9a59c5fa3f1d0b716mv2.png
END:VEVENT
END:VCALENDAR