BEGIN:VCALENDAR
VERSION:2.0
PRODID:-//Oregon Bow Hunters - ECPv6.15.12.2//NONSGML v1.0//EN
CALSCALE:GREGORIAN
METHOD:PUBLISH
X-ORIGINAL-URL:https://oregonbowhunters.org
X-WR-CALDESC:Events for Oregon Bow Hunters
REFRESH-INTERVAL;VALUE=DURATION:PT1H
X-Robots-Tag:noindex
X-PUBLISHED-TTL:PT1H
BEGIN:VTIMEZONE
TZID:America/Los_Angeles
BEGIN:DAYLIGHT
TZOFFSETFROM:-0800
TZOFFSETTO:-0700
TZNAME:PDT
DTSTART:20250309T100000
END:DAYLIGHT
BEGIN:STANDARD
TZOFFSETFROM:-0700
TZOFFSETTO:-0800
TZNAME:PST
DTSTART:20251102T090000
END:STANDARD
BEGIN:DAYLIGHT
TZOFFSETFROM:-0800
TZOFFSETTO:-0700
TZNAME:PDT
DTSTART:20260308T100000
END:DAYLIGHT
BEGIN:STANDARD
TZOFFSETFROM:-0700
TZOFFSETTO:-0800
TZNAME:PST
DTSTART:20261101T090000
END:STANDARD
BEGIN:DAYLIGHT
TZOFFSETFROM:-0800
TZOFFSETTO:-0700
TZNAME:PDT
DTSTART:20270314T100000
END:DAYLIGHT
BEGIN:STANDARD
TZOFFSETFROM:-0700
TZOFFSETTO:-0800
TZNAME:PST
DTSTART:20271107T090000
END:STANDARD
END:VTIMEZONE
BEGIN:VEVENT
DTSTART;TZID=America/Los_Angeles:20260425T070000
DTEND;TZID=America/Los_Angeles:20260425T153000
DTSTAMP:20260419T093857
CREATED:20260313T033434Z
LAST-MODIFIED:20260313T033434Z
UID:2953-1777100400-1777131000@oregonbowhunters.org
SUMMARY:Redding Warm-Up Shoot 2026
DESCRIPTION:70 Official Redding size Dots \n» Shoot one or two days (42 Saturday / 28 Sunday) \n» Shooting starts at 8:30 am \n \nSaturday Registration: 7:00 am – 9:00 am (Mandatory shooters meeting at 8:30 am for All Teams) \nSunday Registration: 7:00 am – 9:00 am  \nRegistration Fees: \nAdult – $20 for one day / $25 for both days Youth – $15 for one day / $20 for both days \nFamily – $40 for one day / $45 for both days \n– Children 11 and under are FREE \nTeam – $30/person (plus trail registration) \n\nVisit Cascadian Bowmen’s website for more information
URL:https://oregonbowhunters.org/event/redding-warm-up-shoot-2026/
LOCATION:Cascadian Bowmen\, 91714 Poodle Creek Rd\, Noti\, OR\, 97461\, United States
ATTACH;FMTTYPE=image/png:https://oregonbowhunters.org/wp-content/uploads/2025/06/IMG_8488.png
END:VEVENT
END:VCALENDAR